BEGIN:VCALENDAR
VERSION:2.0
PRODID:-//The Cove Hotel - ECPv5.0.1//NONSGML v1.0//EN
CALSCALE:GREGORIAN
METHOD:PUBLISH
X-WR-CALNAME:The Cove Hotel
X-ORIGINAL-URL:http://www.thecovehotel.com.au
X-WR-CALDESC:Events for The Cove Hotel
BEGIN:VTIMEZONE
TZID:UTC
BEGIN:STANDARD
TZOFFSETFROM:+0000
TZOFFSETTO:+0000
TZNAME:UTC
DTSTART:20200101T000000
END:STANDARD
TZID:Australia/Melbourne
BEGIN:STANDARD
TZOFFSETFROM:+1100
TZOFFSETTO:+1000
TZNAME:AEST
DTSTART:20200404T160000
END:STANDARD
BEGIN:DAYLIGHT
TZOFFSETFROM:+1000
TZOFFSETTO:+1100
TZNAME:AEDT
DTSTART:20201003T160000
END:DAYLIGHT
END:VTIMEZONE
BEGIN:VEVENT
DTSTART;TZID=UTC:20200101T083000
DTEND;TZID=UTC:20200229T233000
DTSTAMP:20200229T173710
CREATED:20191217T182915Z
LAST-MODIFIED:20191217T182916Z
UID:2037-1577867400-1583019000@www.thecovehotel.com.au
SUMMARY:Jan & Feb Drinks Of The Month
DESCRIPTION:Join us throughout January & February to take advantage of these great offers! \n\n$6 Carlton Dry Schooners\n$6 Stella Artois Stubbies\n$8 (small) $10 (large) Glass of Tatachilla White Admiral Pinot Grigio\n$1 Tanqueray Gin Upgrade\n$10 Jugs of Soft Drink\n\nThis venue practices responsible service \n*Conditions apply \n
URL:http://www.thecovehotel.com.au/event/jan-feb-drinks-of-the-month/
ATTACH;FMTTYPE=image/jpeg:http://www.thecovehotel.com.au/wp-content/uploads/2019/12/Drinks-of-the-month_Digital_JAN_FEB20_THE-COVE-01-tv-wide-scaled.jpg
END:VEVENT
BEGIN:VEVENT
DTSTART;TZID=Australia/Melbourne:20200201T083000
DTEND;TZID=Australia/Melbourne:20200229T235900
DTSTAMP:20200229T173710
CREATED:20200130T053340Z
LAST-MODIFIED:20200130T235404Z
UID:2079-1580545800-1583020740@www.thecovehotel.com.au
SUMMARY:February Food & Beverage Special Offer
DESCRIPTION:Reward yourself\nLove a good deal?\nHopefully you’ve earned loads of bonus points in our Double Double promotion last month\, now’s the time to make them work for you. \nWhy not take advantage of 25% off food & beverage vouchers?\n$10 Food & Beverage voucher = now only 750 points\n$25 Food & Beverage voucher = now only 1\,825 points\n$50 Food & Beverage voucher = now only 3\,750 points \nHurry – these offers are available during February only.\nRemember\, redeeming your points does NOT affect your tier status and bonus points earned through promotions do NOT add to tier status so make the most of them with these special offers. \nTerms & Conditions apply \n
URL:http://www.thecovehotel.com.au/event/points-burn-food-beverage-special-offer/
ATTACH;FMTTYPE=image/jpeg:http://www.thecovehotel.com.au/wp-content/uploads/2020/01/Point-Burn-FB-Pegasus.jpg
END:VEVENT
BEGIN:VEVENT
DTSTART;TZID=Australia/Melbourne:20200201T083000
DTEND;TZID=Australia/Melbourne:20200221T235900
DTSTAMP:20200229T173710
CREATED:20200131T045209Z
LAST-MODIFIED:20200131T045209Z
UID:2093-1580545800-1582329540@www.thecovehotel.com.au
SUMMARY:Special Offer – Neds Blue Diamond Stakes Day Tickets
DESCRIPTION:Reward yourself\nLove your racing or even just a good deal?\nHopefully you’ve earned loads of bonus points in our Double Double promotion last month\, now’s the time to make them work for you.\nRedeem two general admission tickets for Neds Blue Diamond Stakes Day for 3\,000 Points. \nHurry – this special offer is only available until Friday 21 February.\nRemember\, redeeming your points does NOT affect your tier status and bonus points earned through promotions do NOT add to tier status so make the most of them with these special offers. \nTerms & Conditions apply \n
URL:http://www.thecovehotel.com.au/event/special-offer-neds-blue-diamond-stakes-day-tickets/
ATTACH;FMTTYPE=image/jpeg:http://www.thecovehotel.com.au/wp-content/uploads/2020/01/Blue-diamond_Pegasus.jpg
END:VEVENT
BEGIN:VEVENT
DTSTART;TZID=Australia/Melbourne:20200201T120000
DTEND;TZID=Australia/Melbourne:20200229T233000
DTSTAMP:20200229T173710
CREATED:20200131T011557Z
LAST-MODIFIED:20200131T011557Z
UID:2089-1580558400-1583019000@www.thecovehotel.com.au
SUMMARY:February Cocktail Of The Month
DESCRIPTION:Join us here at The Cove at try our February Cocktail Of The Month! \n‘LOVE YOU BERRY MUCH’\nOnly $16 \nA refreshing and fruity raspberry caprioska.\nMuddled raspberries\, lime\, absolut raspberri\, brown sugar syrup\, soda water\, served over crushed ice. \nWe practice Responsible Service \n
URL:http://www.thecovehotel.com.au/event/february-cocktail-of-the-month/
ATTACH;FMTTYPE=image/jpeg:http://www.thecovehotel.com.au/wp-content/uploads/2020/01/Cocktail_feb.jpg
END:VEVENT
BEGIN:VEVENT
DTSTART;TZID=Australia/Melbourne:20200201T180000
DTEND;TZID=Australia/Melbourne:20200229T230000
DTSTAMP:20200229T173710
CREATED:20200130T053813Z
LAST-MODIFIED:20200130T055400Z
UID:2083-1580580000-1583017200@www.thecovehotel.com.au
SUMMARY:Live Music in February
DESCRIPTION:Join us here at The Cove for LIVE music every weekend! \nFriday 6pm to 9pm\nSaturday 8pm to 11pm \n
URL:http://www.thecovehotel.com.au/event/live-music-in-february/
ATTACH;FMTTYPE=image/jpeg:http://www.thecovehotel.com.au/wp-content/uploads/2020/01/20200201-Ent-roster_Feb-v2.jpg
END:VEVENT
BEGIN:VEVENT
DTSTART;TZID=Australia/Melbourne:20200206T120000
DTEND;TZID=Australia/Melbourne:20200404T180000
DTSTAMP:20200229T173710
CREATED:20200206T052137Z
LAST-MODIFIED:20200207T003522Z
UID:2097-1580990400-1586023200@www.thecovehotel.com.au
SUMMARY:AFL Footy Tipping Competition
DESCRIPTION:Do you love AFL Football? \nWhy not take a chance and join our Footy Tipping Competition. \nONLY $25 to enter plus receive a FREE house beer\, wine or soft drink when placing tips! \nThere are some great prizes on offer. \n\nVenue Competition Prize\nPegasus Leisure Group prize pool of $12\,000\nSports Pick National prize pool of $50\,000\n\nPlus pick 9 winners and WIN a VB 6 pack. \nKick off Thursday 19 March \nSign up now! \nClick here for Terms and Conditions \n
URL:http://www.thecovehotel.com.au/event/afl-footy-tipping-competition/
ATTACH;FMTTYPE=image/jpeg:http://www.thecovehotel.com.au/wp-content/uploads/2020/02/Cove_SportsPick_Footy-tipping_Digital-01-scaled.jpg
END:VEVENT
END:VCALENDAR