BEGIN:VCALENDAR
VERSION:2.0
PRODID:-//The Cove Hotel - ECPv5.0.1//NONSGML v1.0//EN
CALSCALE:GREGORIAN
METHOD:PUBLISH
X-WR-CALNAME:The Cove Hotel
X-ORIGINAL-URL:http://www.thecovehotel.com.au
X-WR-CALDESC:Events for The Cove Hotel
BEGIN:VTIMEZONE
TZID:Australia/Melbourne
BEGIN:STANDARD
TZOFFSETFROM:+1100
TZOFFSETTO:+1000
TZNAME:AEST
DTSTART:20200404T160000
END:STANDARD
BEGIN:DAYLIGHT
TZOFFSETFROM:+1000
TZOFFSETTO:+1100
TZNAME:AEDT
DTSTART:20201003T160000
END:DAYLIGHT
END:VTIMEZONE
BEGIN:VEVENT
DTSTART;TZID=Australia/Melbourne:20200206T120000
DTEND;TZID=Australia/Melbourne:20200404T180000
DTSTAMP:20200229T171729
CREATED:20200206T052137Z
LAST-MODIFIED:20200207T003522Z
UID:2097-1580990400-1586023200@www.thecovehotel.com.au
SUMMARY:AFL Footy Tipping Competition
DESCRIPTION:Do you love AFL Football? \nWhy not take a chance and join our Footy Tipping Competition. \nONLY $25 to enter plus receive a FREE house beer\, wine or soft drink when placing tips! \nThere are some great prizes on offer. \n\nVenue Competition Prize\nPegasus Leisure Group prize pool of $12\,000\nSports Pick National prize pool of $50\,000\n\nPlus pick 9 winners and WIN a VB 6 pack. \nKick off Thursday 19 March \nSign up now! \nClick here for Terms and Conditions \n
URL:http://www.thecovehotel.com.au/event/afl-footy-tipping-competition/
ATTACH;FMTTYPE=image/jpeg:http://www.thecovehotel.com.au/wp-content/uploads/2020/02/Cove_SportsPick_Footy-tipping_Digital-01-scaled.jpg
END:VEVENT
BEGIN:VEVENT
DTSTART;TZID=Australia/Melbourne:20200301T090000
DTEND;TZID=Australia/Melbourne:20200430T233000
DTSTAMP:20200229T171729
CREATED:20200228T032730Z
LAST-MODIFIED:20200228T032730Z
UID:2116-1583053200-1588289400@www.thecovehotel.com.au
SUMMARY:March & April Drinks Of The Month
DESCRIPTION:Join us throughout March & April to take advantage of these great offers! \n\n$8.50 – Glass of Pepperjack Shiraz\n$15.00 – Large Glass of Pepperjack Shiraz\n$45.00 – Bottle of Pepperjack Shiraz\n$7.00 – Corona bottle\n$22.00 – Bucket of 4 Coronas\n$7.00 – Great Northern Pint\n$7.00 – Johnnie Walker Red\n$8.00 – Upgrade to Johnnie Walker Black\n\nThis venue practices responsible service \n*Conditions apply \n
URL:http://www.thecovehotel.com.au/event/march-april-drinks-of-the-month/
ATTACH;FMTTYPE=image/jpeg:http://www.thecovehotel.com.au/wp-content/uploads/2020/02/Drinks-of-the-month_Digital_MARCHAPRIL_20_COVE-01_TV-WIDE-scaled.jpg
END:VEVENT
BEGIN:VEVENT
DTSTART;TZID=Australia/Melbourne:20200301T090000
DTEND;TZID=Australia/Melbourne:20200331T233000
DTSTAMP:20200229T171729
CREATED:20200228T045840Z
LAST-MODIFIED:20200228T045840Z
UID:2119-1583053200-1585697400@www.thecovehotel.com.au
SUMMARY:March Cocktail Of The Month
DESCRIPTION:Join us here in March and try our Cocktail Of The Month! \n‘CHEEKY TIKI’\nOnly $16 \nA tiki style fruit punch\, perfect to drink by the water.\nPampero especial\, mango liqueur\, chambord\, aromatic bitters and orgeat mixed with fresh lemon juice and pineapple juice. \nWe practice Responsible Service \n
URL:http://www.thecovehotel.com.au/event/march-cocktail-of-the-month/
ATTACH;FMTTYPE=image/jpeg:http://www.thecovehotel.com.au/wp-content/uploads/2020/02/cocktail-of-the-month_MARCH-01-scaled.jpg
END:VEVENT
END:VCALENDAR